BEGIN:VCALENDAR
VERSION:2.0
PRODID:-//Squarespace Inc/Squarespace 6//v6//EN
BEGIN:VEVENT
UID:597365a26a49636e87583dd9@squarespace.com
DTSTAMP:20170723T103818Z
DTSTART:20200515T150000Z
DTEND:20200719T160000Z
SUMMARY:Signal Point Gallery\, Goolwa\, SA
GEO:-35.503;138.7853
LOCATION:5 Laurie Lane\, Goolwa\, SA\, 5214\, Australia
END:VEVENT
END:VCALENDAR
