BEGIN:VCALENDAR
VERSION:2.0
PRODID:-//Squarespace Inc/Squarespace 6//v6//EN
BEGIN:VEVENT
UID:59736556d1758e2554a078cb@squarespace.com
DTSTAMP:20170723T103752Z
DTSTART:20200306T160000Z
DTEND:20200426T160000Z
SUMMARY:Murray Bridge Regional Gallery\, Murray Bridge\, SA
GEO:-35.117366;139.275623
LOCATION:27 Sixth St\, Murray Bridge SA 5253
END:VEVENT
END:VCALENDAR
