BEGIN:VCALENDAR
VERSION:2.0
PRODID:-//Squarespace Inc/Squarespace 6//v6//EN
BEGIN:VEVENT
UID:597364a4db29d6a05c500808@squarespace.com
DTSTAMP:20170723T103609Z
DTSTART:20190802T150000Z
DTEND:20191006T160000Z
SUMMARY:Mornington Peninsula Regional Art Gallery\, Mornington\, VIC
GEO:-38.240446;145.048243
LOCATION:Dunns Road\, Mornington\, VIC\, 3931\, Australia
END:VEVENT
END:VCALENDAR
