BEGIN:VCALENDAR
VERSION:2.0
PRODID:-//Squarespace Inc/Squarespace 6//v6//EN
BEGIN:VEVENT
UID:597364483e00be4843dddf62@squarespace.com
DTSTAMP:20170723T103532Z
DTSTART:20190621T150000Z
DTEND:20190721T160000Z
SUMMARY:Western Plain Cultural Centre\, Dubbo\, NSW
GEO:-32.249417;148.604014
LOCATION:76 Wingewarra Street\, Dubbo\, NSW\, 2830\, Australia
END:VEVENT
END:VCALENDAR
