BEGIN:VCALENDAR
VERSION:2.0
PRODID:-//Squarespace Inc/Squarespace 6//v6//EN
BEGIN:VEVENT
UID:59736357d482e9419b092aed@squarespace.com
DTSTAMP:20180306T235011Z
DTSTART:20190201T160000Z
DTEND:20190429T160000Z
SUMMARY:Australian Design Centre\, Darlinghurst\, NSW
GEO:-33.874622;151.216798
LOCATION:101/113-115 William St\, Darlinghurst NSW 2010
END:VEVENT
END:VCALENDAR
