BEGIN:VCALENDAR
VERSION:2.0
PRODID:-//Squarespace Inc/Squarespace 6//v6//EN
BEGIN:VEVENT
UID:597364eb7131a526074c1a34@squarespace.com
DTSTAMP:20170723T103717Z
DTSTART:20191129T160000Z
DTEND:20200201T170000Z
SUMMARY:Bunbury Regional Art Galleries\, Bunbury\, WA
GEO:-33.324288;115.635237
LOCATION:64 Wittenoom Street\, Bunbury\, WA\, 6230\, Australia
END:VEVENT
END:VCALENDAR
