BEGIN:VCALENDAR
VERSION:2.0
PRODID:-//Squarespace Inc/Squarespace 6//v6//EN
BEGIN:VEVENT
UID:59736212893fc04502dd7374@squarespace.com
DTSTAMP:20170723T103318Z
DTSTART:20180608T150000Z
DTEND:20180805T160000Z
SUMMARY:Bathurst Regional Art Gallery\, Bathurst NSW
GEO:-33.422444;149.579564
LOCATION:70–78 Keppel Street\, Bathurst\, NSW\, 2795\, Australia
END:VEVENT
END:VCALENDAR
