BEGIN:VCALENDAR
VERSION:2.0
PRODID:-//Squarespace Inc/Squarespace 6//v6//EN
BEGIN:VEVENT
UID:5973611bc534a5ea5dcb34e0@squarespace.com
DTSTAMP:20180221T023609Z
DTSTART:20180217T153000Z
DTEND:20180325T163000Z
SUMMARY:QUT Art Museum\, Brisbane QLD
GEO:-27.477346;153.028442
LOCATION:2 George Street\, Brisbane City\, QLD\, 4000\, Australia
END:VEVENT
END:VCALENDAR
