BEGIN:VCALENDAR
VERSION:2.0
PRODID:-//Squarespace Inc/Squarespace 6//v6//EN
BEGIN:VEVENT
UID:5a9f28b4419202557d8d0bcd@squarespace.com
DTSTAMP:20180306T234934Z
DTSTART:20181208T000000Z
DTEND:20190121T010000Z
SUMMARY:Hawkesbury Regional Gallery\, Windsor\, NSW
END:VEVENT
END:VCALENDAR
