BEGIN:VCALENDAR
VERSION:2.0
PRODID:-//Squarespace Inc/Squarespace 6//v6//EN
BEGIN:VEVENT
UID:597363f4893fc04502dd848f@squarespace.com
DTSTAMP:20170723T103500Z
DTSTART:20190413T150000Z
DTEND:20190609T160000Z
SUMMARY:Wagga Wagga Art Gallery\, Wagga Wagga\, NSW
GEO:-35.109873;147.370518
LOCATION:Baylis St & Morrow Street\, Wagga Wagga NSW 2650
END:VEVENT
END:VCALENDAR
