BEGIN:VCALENDAR
VERSION:2.0
PRODID:-//Squarespace Inc/Squarespace 6//v6//EN
BEGIN:VEVENT
UID:597362e4cd39c3164916d923@squarespace.com
DTSTAMP:20180306T234751Z
DTSTART:20180907T150000Z
DTEND:20181125T170000Z
SUMMARY:Lake Macquarie City Art Gallery\, Booragul NSW
GEO:-32.972189;151.612231
LOCATION:1A First Street\, Booragul\, NSW\, 2284\, Australia
END:VEVENT
END:VCALENDAR
