BEGIN:VCALENDAR
VERSION:2.0
PRODID:-//Squarespace Inc/Squarespace 6//v6//EN
BEGIN:VEVENT
UID:596dacd9ff7c50db01fccacb@squarespace.com
DTSTAMP:20170723T102905Z
DTSTART:20170811T070000Z
DTEND:20170911T080000Z
SUMMARY:Pine Rivers Art Gallery\, Strathpine QLD
GEO:-27.311257;152.991606
LOCATION:7/199 Gympie Road\, Strathpine\, QLD\, 4500\, Australia
END:VEVENT
END:VCALENDAR
