BEGIN:VCALENDAR
VERSION:2.0
PRODID:-//Squarespace Inc/Squarespace 6//v6//EN
BEGIN:VEVENT
UID:596daedb2e69cf240a129277@squarespace.com
DTSTAMP:20170723T103105Z
DTSTART:20170922T070000Z
DTEND:20171119T090000Z
SUMMARY:Cairns Art Gallery\, Cairns QLD
GEO:40.720756;-74.000761
LOCATION:40 Abbott Street\, Cairns City\, QLD\, 4870\, Australia
END:VEVENT
END:VCALENDAR
