BEGIN:VCALENDAR
VERSION:2.0
PRODID:-//Squarespace Inc/Squarespace 6//v6//EN
BEGIN:VEVENT
UID:596db02debbd1ab34db67f63@squarespace.com
DTSTAMP:20170723T103158Z
DTSTART:20171208T080000Z
DTEND:20180204T090000Z
SUMMARY:Hervey Bay Regional Art Gallery\, Pialba QLD
GEO:-25.284043;152.836748
LOCATION:166 Old Maryborough Rd\, Pialba QLD 4655
END:VEVENT
END:VCALENDAR
